BEGIN:VCALENDAR
VERSION:2.0
PRODID:-//eventon.com NONSGML v1.0//EN
CALSCALE:GREGORIAN
METHOD:PUBLISH
BEGIN:VEVENT
UID:69e6214a99575
DTSTAMP:20260420T125122Z
DTSTART:20250313T041500Z
DTEND:20250313T225000Z
LOCATION:Pampeago Località Pampeago\,  8\,  38038 Tesero TN
SUMMARY:Ski Sunrise Monte Agnello
DESCRIPTION:Le prime luci dell’alba\,  l’aria frizzante\,  la neve imma
 colata e un paesaggio alpino mozzafiato. Il tutto abbinato a una ricca cola
 zione dolce e salata con i sapori tradizionali locali presso i rifugi della
  ski area Latemar Dolomites. Gusta l’esclusiva sciata all’alba ai piedi
  del Latemar – Dolomiti Patrimonio dell’Umanità. Ritrovo[..]\nhttps://
 latemar-events.articalab.com/events/ski-sunrise-monte-agnello/
URL:https://latemar-events.articalab.com/events/ski-sunrise-monte-agnello/
END:VEVENT
END:VCALENDAR