BEGIN:VCALENDAR
VERSION:2.0
PRODID:-//eventon.com NONSGML v1.0//EN
CALSCALE:GREGORIAN
METHOD:PUBLISH
BEGIN:VEVENT
UID:69e606dc8b386
DTSTAMP:20260420T105836Z
DTSTART:20250313T041500Z
DTEND:20250313T225000Z
LOCATION:Pampeago Località Pampeago\,  8\,  38038 Tesero TN
SUMMARY:Trentino Ski Sunrise
DESCRIPTION:The first light of day touching the white peaks\,  the tingling
  air\,  immaculate snow and breathtaking mountain landscape. Add to that a 
 delicious hearty breakfast with sweet and savoury. Meeting hour 5.15 am –
  Start with the lifts at 5.30 am (one run) Lifts: ticket € 6\, 00 Breakfa
 st: € 20\, 00[..]\nhttps://latemar-events.articalab.com/en/events/trentin
 o-ski-sunrise/
URL:https://latemar-events.articalab.com/en/events/trentino-ski-sunrise/
END:VEVENT
END:VCALENDAR