BEGIN:VCALENDAR
VERSION:2.0
PRODID:-//eventon.com NONSGML v1.0//EN
CALSCALE:GREGORIAN
METHOD:PUBLISH
BEGIN:VEVENT
UID:69ed7768c8ab8
DTSTAMP:20260426T022440Z
DTSTART:20250315T100000Z
DTEND:20250315T225900Z
LOCATION:Obereggen Obereggen 16 I-39050 Deutschnofen (BZ)
SUMMARY:MAYRL BURGER DAY
DESCRIPTION:MAYRL BURGER DAY Der neunte Mayrl-Burger-Day für den guten Zwe
 ck in Obereggen &#8211; Am Samstag\,  den 15. März 2025 –  Mayrl Alm\, 
  Obereggen Benefizveranstaltung im Rahmen der Spezialitätenwochen „Beef&
 amp;Snow“ im Eggental Pro verkauften Burger spenden die Mayrl Alm und die
  Bergbahnen Obereggen Latemar AG je einen Euro. Jeder Hamburger hilft: 1[.
 .]\nhttps://latemar-events.articalab.com/de/events/mayrl-burger-day/
URL:https://latemar-events.articalab.com/de/events/mayrl-burger-day/
END:VEVENT
END:VCALENDAR