BEGIN:VCALENDAR
VERSION:2.0
PRODID:-//eventon.com NONSGML v1.0//EN
CALSCALE:GREGORIAN
METHOD:PUBLISH
BEGIN:VEVENT
UID:69e61b24b7468
DTSTAMP:20260420T122508Z
DTSTART:20250313T041500Z
DTEND:20250313T225000Z
LOCATION:Pampeago LocalitÃ  Pampeago\,  8\,  38038 Tesero TN
SUMMARY:Trentino Ski Sunrise Monte Agnello
DESCRIPTION:Das erste Licht der MorgendÃ¤mmerung\,  die frische Luft\,  der
  unberÃ¼hrte Schnee und eine atemberaubende Bergkulisse. Mit einem reichhal
 tigen sÃ¼ÃŸen und herzhaften FrÃ¼hstÃ¼ck. Es gibt zwei Termine fÃ¼r das FrÃ
 ¼haufsteher-Skifahren. Treffpunkt um 05:15 Uhr â€“ Abfahrt mit der Liftanla
 ge um 05:30 Uhr (Einzelfahrt) Liftanlage: H/Z â‚¬ 6\, 00 FrÃ¼hstÃ¼ck: â‚¬ 2
 0\, 00 fÃ¼r[..]\nhttps://latemar-events.articalab.com/de/events/ski-sunrise
 -monte-agnello/
URL:https://latemar-events.articalab.com/de/events/ski-sunrise-monte-agnello/
END:VEVENT
END:VCALENDAR